BEGIN:VCALENDAR
VERSION:2.0
PRODID: -//CMS 5.0 //NONSGML //DE
BEGIN:VEVENT
SUMMARY:Pfingstgottesdienst des Stammapostels
DESCRIPTION:<p>Stammapostel Jean-Luc Schneider führt am Pfingstsonntag,
  24. Mai 2026, den Gottesdienst in&nbsp; Tafelsig (Südafrika)&nbsp;dur
 ch, der weltweit in Kirchengemeinden übertragen wird. Gottesdienstbegi
 nn ist um 10:00 Uhr.<br />\n<br />\nZusätzlich zur Übertragung in die
  Kirchen wird der Gottesdienst als Livestream auf&nbsp; YouTube-Kanal 
 übertragen.</p>\n\n<p><a href="https://youtube.com/live/rgJYfaQJ23c">Z
 UM YOUTUBE-KANAL</a><br />\n<br />\nPer Telefon kann der Gottesdienst 
 über die Telefonnummer&nbsp;<br />\n069 / 203&nbsp;4707&nbsp;87&nbsp;m
 iterlebt werden.</p>\n
UID:166160@www.nak-dornhan-villingen-schwenningen.de
LOCATION:Tafelsig (Südafrika)
CATEGORIES:Bezirk (ohne Gemeinden),Gottesdienst
X-ORGANIZER:
STATUS:CONFIRMED
CLASS:PUBLIC
DTSTART:20260524T080000Z
DTEND:20260524T080000Z
DTSTAMP:20260421T195137Z
CREATED:20190129T060208Z
LAST-MODIFIED:20251223T102109Z
END:VEVENT
BEGIN:VEVENT
SUMMARY:Lichterkonzert in Vöhringen
DESCRIPTION:
UID:167923@www.nak-dornhan-villingen-schwenningen.de
LOCATION:Vöhringen
CATEGORIES:Musik,Bezirk (ohne Gemeinden)
X-ORGANIZER:
STATUS:CONFIRMED
CLASS:PUBLIC
DTSTART:20260322T183000Z
DTEND:20260322T183000Z
DTSTAMP:20260421T195137Z
CREATED:20190223T084901Z
LAST-MODIFIED:20260123T132500Z
END:VEVENT
BEGIN:VEVENT
SUMMARY:Gottesdienst des Bezirksapostels mit Übertragung
DESCRIPTION:<p>Der Bezirksapostel&nbsp;führt am Sonntag, 26. Juli&nbsp;
 2026, einen Gottesdienst in der Kirche in Albstadt durch, der in den ge
 samten Arbeitsbereich des Bezirksapostels übertragen wird. Gottesdiens
 tbeginn ist um 10:00 Uhr.<br />\n<br />\nZusätzlich zur Übertragung i
 n die Kirchen wird der Gottesdienst als Livestream auf dem YouTube-Kana
 l der Gebietskirche gesendet.</p>\n\n<p><a href="https://www.youtube.co
 m/c/NAKSueddeutschland">Zum Youtube-Kanal</a></p>\n\n<p>Per Telefon kan
 n der Gottesdienst über die Telefonnummer&nbsp;<br />\n069 / 203 4707 
 87&nbsp;miterlebt werden.</p>\n
UID:297239@www.nak-dornhan-villingen-schwenningen.de
LOCATION:Albstadt
CATEGORIES:Bezirk (ohne Gemeinden),Gottesdienst
X-ORGANIZER:
STATUS:CONFIRMED
CLASS:PUBLIC
DTSTART:20260726T080000Z
DTEND:20260726T080000Z
DTSTAMP:20260421T195137Z
CREATED:20231202T085918Z
LAST-MODIFIED:20251223T102553Z
END:VEVENT
BEGIN:VEVENT
SUMMARY:Gottesdienst des Bezirksapostels für Amtsträger
DESCRIPTION:<p>Am Sonntag, den 11. Oktober 2026, führt der Bezirksapost
 el&nbsp;einen Gottesdienst für Amtsträger in Fellbach durch, zu dem a
 lle Amtsträger (aktiv und im Ruhestand) und die Partner der Amtsträge
 r eingeladen sind. Der Gottesdienst wird europaweit live übertragen.<b
 r />\n<br />\nDer Gottesdienst beginnt um 10:00 Uhr. Für alle weiteren
  Gemeindemitglieder findet an diesem Sonntagvormittag kein Gottesdienst
  statt.</p>\n
UID:318590@www.nak-dornhan-villingen-schwenningen.de
LOCATION:Fellbach
CATEGORIES:Bezirk (ohne Gemeinden),Gottesdienst
X-ORGANIZER:
STATUS:CONFIRMED
CLASS:PUBLIC
DTSTART:20261011T080000Z
DTEND:20261011T080000Z
DTSTAMP:20260421T195137Z
CREATED:20240824T063624Z
LAST-MODIFIED:20251223T102849Z
END:VEVENT
BEGIN:VEVENT
SUMMARY:Gottesdienst des Bezirksapostels mit Übertragung
DESCRIPTION:<p>Bezirksapostel Michael Ehrich führt am Ostersonntag, 5. 
 April 2026, einen Gottesdienst in der Kirche in Kempten-Süd durch, der
  in den gesamten Arbeitsbereich des Bezirksapostels übertragen wird. G
 ottesdienstbeginn ist um 10:00 Uhr.<br />\n<br />\nZusätzlich zur Übe
 rtragung in die Kirchen wird der Gottesdienst als Livestream auf dem Yo
 uTube-Kanal der Gebietskirche gesendet.</p>\n\n<p><a href="https://www.
 youtube.com/c/NAKSueddeutschland">Zum Youtube-Kanal</a></p>\n\n<p>Per T
 elefon kann der Gottesdienst über die Telefonnummer&nbsp;<br />\n069 /
  203 4707 87&nbsp;miterlebt werden.</p>\n
UID:326662@www.nak-dornhan-villingen-schwenningen.de
LOCATION:Kempten-Süd
CATEGORIES:Bezirk (ohne Gemeinden),Gottesdienst
X-ORGANIZER:
STATUS:CONFIRMED
CLASS:PUBLIC
DTSTART:20260405T080000Z
DTEND:20260405T080000Z
DTSTAMP:20260421T195137Z
CREATED:20241214T102206Z
LAST-MODIFIED:20251223T101823Z
END:VEVENT
BEGIN:VEVENT
SUMMARY:Bezirksmännerchorprobe
DESCRIPTION:
UID:328899@www.nak-dornhan-villingen-schwenningen.de
LOCATION:Fluorn
CATEGORIES:Bezirk (ohne Gemeinden),Musik
X-ORGANIZER:
STATUS:CONFIRMED
CLASS:PUBLIC
DTSTART:20260511T180000Z
DTEND:20260511T180000Z
DTSTAMP:20260421T195137Z
CREATED:20250118T123711Z
LAST-MODIFIED:20260420T053226Z
END:VEVENT
BEGIN:VEVENT
SUMMARY:Gottesdienst des Stammapostels mit Übertragung
DESCRIPTION:<p>Der Stammapostel führt am Sonntag, 21. Juni 2026, einen 
 Gottesdienst in der Kirche in Karlsruhe-Mitte durch, der in den Arbeits
 bereich des Bezirksapostels Michael Ehrich übertragen wird. Gottesdien
 stbeginn ist um 10:00 Uhr.<br />\n<br />\nZusätzlich zur Übertragung 
 in die Kirchen wird der Gottesdienst als Livestream auf dem YouTube-Kan
 al der Gebietskirche gesendet.<br />\n<br />\n<a href="https://www.yout
 ube.com/c/NAKSueddeutschland">ZUM YOUTUBE-KANAL</a><br />\n<br />\nPer 
 Telefon kann der Gottesdienst über die Telefonnummer&nbsp;<br />\n069 
 / 203 4707 87&nbsp;miterlebt werden.</p>\n
UID:337922@www.nak-dornhan-villingen-schwenningen.de
LOCATION:Karlsruhe-Mitte
CATEGORIES:Bezirk (ohne Gemeinden),Gottesdienst
X-ORGANIZER:
STATUS:CONFIRMED
CLASS:PUBLIC
DTSTART:20260621T080000Z
DTEND:20260621T080000Z
DTSTAMP:20260421T195137Z
CREATED:20250509T062858Z
LAST-MODIFIED:20251223T102251Z
END:VEVENT
BEGIN:VEVENT
SUMMARY:Bezirksjugendchorprobe mit anschließendem Beisammensein
DESCRIPTION:
UID:346755@www.nak-dornhan-villingen-schwenningen.de
LOCATION:Rottweil
CATEGORIES:Jugend,Musik,Bezirk (ohne Gemeinden)
X-ORGANIZER:
STATUS:CONFIRMED
CLASS:PUBLIC
DTSTART:20260417T173000Z
DTEND:20260417T173000Z
DTSTAMP:20260421T195137Z
CREATED:20250920T084015Z
LAST-MODIFIED:20260320T143003Z
END:VEVENT
BEGIN:VEVENT
SUMMARY:Bezirksjugendgottesdienst XXL
DESCRIPTION:
UID:346761@www.nak-dornhan-villingen-schwenningen.de
LOCATION:Rottweil
CATEGORIES:Jugend,Gottesdienst,Bezirk (ohne Gemeinden)
X-ORGANIZER:
STATUS:CONFIRMED
CLASS:PUBLIC
DTSTART:20260419T080000Z
DTEND:20260419T080000Z
DTSTAMP:20260421T195137Z
CREATED:20250920T084513Z
LAST-MODIFIED:20260320T143106Z
END:VEVENT
BEGIN:VEVENT
SUMMARY:Trauergesprächskreis
DESCRIPTION:
UID:349161@www.nak-dornhan-villingen-schwenningen.de
LOCATION:Schwenningen
CATEGORIES:Bezirk (ohne Gemeinden)
X-ORGANIZER:
STATUS:CONFIRMED
CLASS:PUBLIC
DTSTART:20260512T130000Z
DTEND:20260512T130000Z
DTSTAMP:20260421T195137Z
CREATED:20251011T111135Z
LAST-MODIFIED:20260420T053257Z
END:VEVENT
BEGIN:VEVENT
SUMMARY:Gottesdienst des Stammapostels mit Übertragung
DESCRIPTION:<p>Der Stammapostel führt am Sonntag, 1. November 2026, ein
 en Gottesdienst in der Kirche in Tuttlingen durch, der in den europäis
 chen Arbeitsbereich des Bezirksapostels übertragen wird. Gottesdienstb
 eginn ist um 10:00 Uhr.<br />\n<br />\nZusätzlich zur Übertragung in 
 die Kirchen wird der Gottesdienst als Livestream auf dem YouTube-Kanal 
 der Gebietskirche gesendet.<br />\n<br />\n<a href="https://www.youtube
 .com/c/NAKSueddeutschland">ZUM YOUTUBE-KANAL</a><br />\n<br />\nPer Tel
 efon kann der Gottesdienst über die Telefonnummer&nbsp;<br />\n069 / 2
 03 4707 87&nbsp;miterlebt werden.</p>\n
UID:355356@www.nak-dornhan-villingen-schwenningen.de
LOCATION:Tuttlingen
CATEGORIES:Gottesdienst,Bezirk (ohne Gemeinden)
X-ORGANIZER:
STATUS:CONFIRMED
CLASS:PUBLIC
DTSTART:20261101T090000Z
DTEND:20261101T090000Z
DTSTAMP:20260421T195137Z
CREATED:20251223T102924Z
LAST-MODIFIED:20251223T103011Z
END:VEVENT
BEGIN:VEVENT
SUMMARY:Bezirksseniorenchorprobe
DESCRIPTION:
UID:359051@www.nak-dornhan-villingen-schwenningen.de
LOCATION:Oberndorf
CATEGORIES:Senioren,Musik,Bezirk (ohne Gemeinden)
X-ORGANIZER:
STATUS:CONFIRMED
CLASS:PUBLIC
DTSTART:20260417T130000Z
DTEND:20260417T130000Z
DTSTAMP:20260421T195137Z
CREATED:20260214T105655Z
LAST-MODIFIED:20260320T142849Z
END:VEVENT
BEGIN:VEVENT
SUMMARY:Bezirkskinderchorprobe
DESCRIPTION:
UID:359053@www.nak-dornhan-villingen-schwenningen.de
LOCATION:Dornhan
CATEGORIES:Kinder,Musik,Bezirk (ohne Gemeinden)
X-ORGANIZER:
STATUS:CONFIRMED
CLASS:PUBLIC
DTSTART:20260508T160000Z
DTEND:20260508T160000Z
DTSTAMP:20260421T195137Z
CREATED:20260214T110535Z
LAST-MODIFIED:20260420T053042Z
END:VEVENT
BEGIN:VEVENT
SUMMARY:Bezirksorchesterprobe
DESCRIPTION:
UID:359054@www.nak-dornhan-villingen-schwenningen.de
LOCATION:Dornhan
CATEGORIES:Bezirk (ohne Gemeinden),Musik
X-ORGANIZER:
STATUS:CONFIRMED
CLASS:PUBLIC
DTSTART:20260508T173000Z
DTEND:20260508T173000Z
DTSTAMP:20260421T195137Z
CREATED:20260214T110856Z
LAST-MODIFIED:20260420T053130Z
END:VEVENT
BEGIN:VEVENT
SUMMARY:Bezirksjugendabend mit Bischof
DESCRIPTION:
UID:359055@www.nak-dornhan-villingen-schwenningen.de
LOCATION:Dornhan
CATEGORIES:Bezirk (ohne Gemeinden),Jugend
X-ORGANIZER:
STATUS:CONFIRMED
CLASS:PUBLIC
DTSTART:20260327T183000Z
DTEND:20260327T183000Z
DTSTAMP:20260421T195137Z
CREATED:20260214T111103Z
LAST-MODIFIED:20260214T111148Z
END:VEVENT
BEGIN:VEVENT
SUMMARY:Bezirksseniorenchor singt im Altenzentrum St. Elisabeth
DESCRIPTION:
UID:363893@www.nak-dornhan-villingen-schwenningen.de
LOCATION:Rottweil
CATEGORIES:Senioren,Musik,Bezirk (ohne Gemeinden)
X-ORGANIZER:
STATUS:CONFIRMED
CLASS:PUBLIC
DTSTART:20260529T140000Z
DTEND:20260529T140000Z
DTSTAMP:20260421T195137Z
CREATED:20260420T053349Z
LAST-MODIFIED:20260420T053448Z
END:VEVENT
END:VCALENDAR
